BEGIN:VCALENDAR
VERSION:2.0
PRODID:-//جامعه اَپی‌تاک - ECPv4.6.18//NONSGML v1.0//EN
CALSCALE:GREGORIAN
METHOD:PUBLISH
X-WR-CALNAME:جامعه اَپی‌تاک
X-ORIGINAL-URL:https://apitalk.ir
X-WR-CALDESC:رویدادها برای جامعه اَپی‌تاک
BEGIN:VEVENT
DTSTART;VALUE=DATE:20140521
DTEND;VALUE=DATE:20140523
DTSTAMP:20260421T094332
CREATED:20160819T201748Z
LAST-MODIFIED:20180608T092958Z
UID:2294-1400646600-1400732999@apitalk.ir
SUMMARY:همایش خانواده
DESCRIPTION:لورم ایپسوم متن ساختگی با تولید سادگی نامفهوم از صنعت چاپ و با استفاده از طراحان گرافیک است. چاپگرها و متون بلکه روزنامه و مجله در ستون و سطرآنچنان که لازم است و برای شرایط فعلی تکنولوژی مورد نیاز و کاربردهای متنوع با هدف بهبود ابزارهای کاربردی می باشد.لورم ایپسوم متن ساختگی با تولید سادگی نامفهوم از صنعت چاپ و با استفاده از طراحان گرافیک است. چاپگرها و متون بلکه روزنامه و مجله در ستون و سطرآنچنان که لازم است و برای شرایط فعلی تکنولوژی مورد نیاز و کاربردهای متنوع با هدف بهبود ابزارهای کاربردی می باشد.لورم ایپسوم متن ساختگی با تولید سادگی نامفهوم از صنعت چاپ و با استفاده از طراحان گرافیک است. چاپگرها و متون بلکه روزنامه و مجله در ستون و سطرآنچنان که لازم است و برای شرایط فعلی تکنولوژی مورد نیاز و کاربردهای متنوع با هدف بهبود ابزارهای کاربردی می باشد. \nلورم ایپسوم متن ساختگی با تولید سادگی نامفهوم از صنعت چاپ و با استفاده از طراحان گرافیک است. چاپگرها و متون بلکه روزنامه و مجله در ستون و سطرآنچنان که لازم است و برای شرایط فعلی تکنولوژی مورد نیاز و کاربردهای متنوع با هدف بهبود ابزارهای کاربردی می باشد. \nلورم ایپسوم متن ساختگی با تولید سادگی نامفهوم از صنعت چاپ و با استفاده از طراحان گرافیک است. چاپگرها و متون بلکه روزنامه و مجله در ستون و سطرآنچنان که لازم است و برای شرایط فعلی تکنولوژی مورد نیاز و کاربردهای متنوع با هدف بهبود ابزارهای کاربردی می باشد. \n
URL:https://apitalk.ir/event/marking-devices-pubg-co/
CATEGORIES:بهداشت و سلامت
ATTACH;FMTTYPE=image/jpeg:https://apitalk.ir/wp-content/uploads/2018/01/HNCK1708-1300x866.jpg
END:VEVENT
END:VCALENDAR