BEGIN:VCALENDAR
VERSION:2.0
PRODID:-//جامعه اَپی‌تاک - ECPv4.6.18//NONSGML v1.0//EN
CALSCALE:GREGORIAN
METHOD:PUBLISH
X-WR-CALNAME:جامعه اَپی‌تاک
X-ORIGINAL-URL:https://apitalk.ir
X-WR-CALDESC:رویدادها برای جامعه اَپی‌تاک
BEGIN:VEVENT
DTSTART;TZID=Asia/Tehran:20140325T213000
DTEND;TZID=Asia/Tehran:20140325T223000
DTSTAMP:20260419T134137
CREATED:20160819T201754Z
LAST-MODIFIED:20180608T093623Z
UID:2371-1395783000-1395786600@apitalk.ir
SUMMARY:آزمون های سنجش
DESCRIPTION:لورم ایپسوم متن ساختگی با تولید سادگی نامفهوم از صنعت چاپ و با استفاده از طراحان گرافیک است. چاپگرها و متون بلکه روزنامه و مجله در ستون و سطرآنچنان که لازم است و برای شرایط فعلی تکنولوژی مورد نیاز و کاربردهای متنوع با هدف بهبود ابزارهای کاربردی می باشد.لورم ایپسوم متن ساختگی با تولید سادگی نامفهوم از صنعت چاپ و با استفاده از طراحان گرافیک است. چاپگرها و متون بلکه روزنامه و مجله در ستون و سطرآنچنان که لازم است و برای شرایط فعلی تکنولوژی مورد نیاز و کاربردهای متنوع با هدف بهبود ابزارهای کاربردی می باشد.لورم ایپسوم متن ساختگی با تولید سادگی نامفهوم از صنعت چاپ و با استفاده از طراحان گرافیک است. چاپگرها و متون بلکه روزنامه و مجله در ستون و سطرآنچنان که لازم است و برای شرایط فعلی تکنولوژی مورد نیاز و کاربردهای متنوع با هدف بهبود ابزارهای کاربردی می باشد. \nلورم ایپسوم متن ساختگی با تولید سادگی نامفهوم از صنعت چاپ و با استفاده از طراحان گرافیک است. چاپگرها و متون بلکه روزنامه و مجله در ستون و سطرآنچنان که لازم است و برای شرایط فعلی تکنولوژی مورد نیاز و کاربردهای متنوع با هدف بهبود ابزارهای کاربردی می باشد. \nلورم ایپسوم متن ساختگی با تولید سادگی نامفهوم از صنعت چاپ و با استفاده از طراحان گرافیک است. چاپگرها و متون بلکه روزنامه و مجله در ستون و سطرآنچنان که لازم است و برای شرایط فعلی تکنولوژی مورد نیاز و کاربردهای متنوع با هدف بهبود ابزارهای کاربردی می باشد. \n
URL:https://apitalk.ir/event/h-lee-leonard-attorney-at-law-2/
CATEGORIES:بانکداری باز و نئو بانک‌ها
ATTACH;FMTTYPE=image/jpeg:https://apitalk.ir/wp-content/uploads/2018/01/HNCK1708-1300x866.jpg
END:VEVENT
END:VCALENDAR