BEGIN:VCALENDAR
VERSION:2.0
PRODID:-//جامعه اَپی‌تاک - ECPv4.6.18//NONSGML v1.0//EN
CALSCALE:GREGORIAN
METHOD:PUBLISH
X-WR-CALNAME:جامعه اَپی‌تاک
X-ORIGINAL-URL:https://apitalk.ir
X-WR-CALDESC:رویدادها برای جامعه اَپی‌تاک
BEGIN:VEVENT
DTSTART;TZID=Asia/Tehran:20140605T033300
DTEND;TZID=Asia/Tehran:20140606T195900
DTSTAMP:20260421T083432
CREATED:20160819T201753Z
LAST-MODIFIED:20180608T092521Z
UID:2361-1401939180-1402084740@apitalk.ir
SUMMARY:همایش طراحی وب
DESCRIPTION:لورم ایپسوم متن ساختگی با تولید سادگی نامفهوم از صنعت چاپ و با استفاده از طراحان گرافیک است. چاپگرها و متون بلکه روزنامه و مجله در ستون و سطرآنچنان که لازم است و برای شرایط فعلی تکنولوژی مورد نیاز و کاربردهای متنوع با هدف بهبود ابزارهای کاربردی می باشد. \nلورم ایپسوم متن ساختگی با تولید سادگی نامفهوم از صنعت چاپ و با استفاده از طراحان گرافیک است. چاپگرها و متون بلکه روزنامه و مجله در ستون و سطرآنچنان که لازم است و برای شرایط فعلی تکنولوژی مورد نیاز و کاربردهای متنوع با هدف بهبود ابزارهای کاربردی می باشد. \n  \nلورم ایپسوم متن ساختگی با تولید سادگی نامفهوم از صنعت چاپ و با استفاده از طراحان گرافیک است. چاپگرها و متون بلکه روزنامه و مجله در ستون و سطرآنچنان که لازم است و برای شرایط فعلی تکنولوژی مورد نیاز و کاربردهای متنوع با هدف بهبود ابزارهای کاربردی می باشد.ر \nلورم ایپسوم متن ساختگی با تولید سادگی نامفهوم از صنعت چاپ و با استفاده از طراحان گرافیک است. چاپگرها و متون بلکه روزنامه و مجله در ستون و سطرآنچنان که لازم است و برای شرایط فعلی تکنولوژی مورد نیاز و کاربردهای متنوع با هدف بهبود ابزارهای کاربردی می باشد. \n
URL:https://apitalk.ir/event/barrytron-2/
CATEGORIES:بانکداری باز و نئو بانک‌ها,حکمرانی باز
END:VEVENT
END:VCALENDAR